BEGIN:VCALENDAR
PRODID:-//eluceo/ical//2.0/EN
VERSION:2.0
CALSCALE:GREGORIAN
BEGIN:VEVENT
UID:1efa0543fb2d71edb841328bc67b513e
DTSTAMP:20260425T153320Z
SUMMARY:FS Training
DESCRIPTION:https://www.sg-kuettigen.ch/kalender/fs-training-3
DTSTART:20200910T180000
DTEND:20200910T193000
LOCATION:Schützenhaus Talmatt\, Küttigen\, Schützenhaus\, 5024 Küttigen
ORGANIZER;CN=Schützengesellschaft Küttigen:mailto:info@sg-kuettigen.ch
END:VEVENT
END:VCALENDAR
