BEGIN:VCALENDAR
PRODID:-//eluceo/ical//2.0/EN
VERSION:2.0
CALSCALE:GREGORIAN
BEGIN:VEVENT
UID:c08b69bd75fe1a4b7125926670367d74
DTSTAMP:20260425T154344Z
SUMMARY:58. Eidgenössisches Schützenfest\, Luzern (1/5)
DESCRIPTION:https://www.sg-kuettigen.ch/kalender/58-eidgenoessisches-schuet
 zenfest-luzern
DTSTART:20210626T080000
DTEND:20210626T120000
LOCATION:Schützenhaus Talmatt\, Küttigen\, Schützenhaus\, 5024 Küttigen
ORGANIZER;CN=Schützengesellschaft Küttigen:mailto:info@sg-kuettigen.ch
END:VEVENT
BEGIN:VEVENT
UID:2f8ecbf8fdbfcb2a009d4b4659a0d89e
DTSTAMP:20260425T154344Z
SUMMARY:58. Eidgenössisches Schützenfest\, Luzern (2/5)
DESCRIPTION:https://www.sg-kuettigen.ch/kalender/58-eidgenoessisches-schuet
 zenfest-luzern
DTSTART:20210626T133000
DTEND:20210626T170000
LOCATION:Schützenhaus Talmatt\, Küttigen\, Schützenhaus\, 5024 Küttigen
ORGANIZER;CN=Schützengesellschaft Küttigen:mailto:info@sg-kuettigen.ch
END:VEVENT
BEGIN:VEVENT
UID:aefee67fdfd4bda2b426287f251e179b
DTSTAMP:20260425T154344Z
SUMMARY:58. Eidgenössisches Schützenfest\, Luzern (3/5)
DESCRIPTION:https://www.sg-kuettigen.ch/kalender/58-eidgenoessisches-schuet
 zenfest-luzern
DTSTART:20210627T080000
DTEND:20210627T120000
LOCATION:Schützenhaus Talmatt\, Küttigen\, Schützenhaus\, 5024 Küttigen
ORGANIZER;CN=Schützengesellschaft Küttigen:mailto:info@sg-kuettigen.ch
END:VEVENT
BEGIN:VEVENT
UID:26ba84e36978343496ab078908efa238
DTSTAMP:20260425T154344Z
SUMMARY:58. Eidgenössisches Schützenfest\, Luzern (4/5)
DESCRIPTION:https://www.sg-kuettigen.ch/kalender/58-eidgenoessisches-schuet
 zenfest-luzern
DTSTART:20210627T133000
DTEND:20210627T160000
LOCATION:Schützenhaus Talmatt\, Küttigen\, Schützenhaus\, 5024 Küttigen
ORGANIZER;CN=Schützengesellschaft Küttigen:mailto:info@sg-kuettigen.ch
END:VEVENT
BEGIN:VEVENT
UID:263906dfd9515170439305092099b90a
DTSTAMP:20260425T154344Z
SUMMARY:58. Eidgenössisches Schützenfest\, Luzern (5/5)
DESCRIPTION:https://www.sg-kuettigen.ch/kalender/58-eidgenoessisches-schuet
 zenfest-luzern
DTSTART:20210628T080000
DTEND:20210628T120000
LOCATION:Schützenhaus Talmatt\, Küttigen\, Schützenhaus\, 5024 Küttigen
ORGANIZER;CN=Schützengesellschaft Küttigen:mailto:info@sg-kuettigen.ch
END:VEVENT
END:VCALENDAR
