BEGIN:VCALENDAR
PRODID:-//eluceo/ical//2.0/EN
VERSION:2.0
CALSCALE:GREGORIAN
BEGIN:VEVENT
UID:795106ca482389a838dc0fa89f54d481
DTSTAMP:20260425T154338Z
SUMMARY:Training
DESCRIPTION:https://www.sg-kuettigen.ch/kalender/training-13
DTSTART:20200730T180000
DTEND:20200730T200000
LOCATION:Schützenhaus Talmatt\, Küttigen\, Schützenhaus\, 5024 Küttigen
ORGANIZER;CN=Schützengesellschaft Küttigen:mailto:info@sg-kuettigen.ch
END:VEVENT
END:VCALENDAR
