BEGIN:VCALENDAR
PRODID:-//eluceo/ical//2.0/EN
VERSION:2.0
CALSCALE:GREGORIAN
BEGIN:VEVENT
UID:da7a8455c1868c708533fa4b1e37ee1b
DTSTAMP:20260425T155200Z
SUMMARY:Vereinsobligatorisch mit Bräteln
DESCRIPTION:https://www.sg-kuettigen.ch/kalender/vereinsobligatorisch-mit-b
 raeteln-0
DTSTART:20200905T093000
DTEND:20200905T110000
LOCATION:Schützenhaus Talmatt\, Küttigen\, Schützenhaus\, 5024 Küttigen
ORGANIZER;CN=Schützengesellschaft Küttigen:mailto:info@sg-kuettigen.ch
END:VEVENT
END:VCALENDAR
