BEGIN:VCALENDAR
PRODID:-//eluceo/ical//2.0/EN
VERSION:2.0
CALSCALE:GREGORIAN
BEGIN:VEVENT
UID:8fdd48d69ceb43af61657d94a7840693
DTSTAMP:20260425T153322Z
SUMMARY:Vorschiessen Kirchbergmeisterschaft
DESCRIPTION:https://www.sg-kuettigen.ch/kalender/vorschiessen-kirchbergmeis
 terschaft-0
DTSTART:20210901T180000
DTEND:20210901T193000
LOCATION:Schiessanlage Büelhalde\, Densbüren\, Cholhaldeweg\, 5026 Densb
 üren
ORGANIZER;CN=Schützengesellschaft Küttigen:mailto:info@sg-kuettigen.ch
END:VEVENT
END:VCALENDAR
