BEGIN:VCALENDAR
PRODID:-//eluceo/ical//2.0/EN
VERSION:2.0
CALSCALE:GREGORIAN
BEGIN:VEVENT
UID:70a9ede97636b44756c1c69aa4ced2c1
DTSTAMP:20260425T154927Z
SUMMARY:Schlussschiessen & Absenden Kirchbergmeisterschaft 2021
DESCRIPTION:https://www.sg-kuettigen.ch/kalender/schlussschiessen-absenden-
 kirchbergmeisterschaft-2021
DTSTART:20210911T100000
DTEND:20210911T113000
LOCATION:Schützenhaus Talmatt\, Küttigen\, Schützenhaus\, 5024 Küttigen
ORGANIZER;CN=Schützengesellschaft Küttigen:mailto:info@sg-kuettigen.ch
END:VEVENT
END:VCALENDAR
