BEGIN:VCALENDAR
PRODID:-//eluceo/ical//2.0/EN
VERSION:2.0
CALSCALE:GREGORIAN
BEGIN:VEVENT
UID:af115cd3a4bcdb56c228f03338627537
DTSTAMP:20260425T154304Z
SUMMARY:2. Obligatorischer Schiesstag 2021
DESCRIPTION:https://www.sg-kuettigen.ch/kalender/2-obligatorischer-schiesst
 ag-2021
DTSTART:20210826T180000
DTEND:20210826T193000
LOCATION:Schützenhaus Talmatt\, Küttigen\, Schützenhaus\, 5024 Küttigen
ORGANIZER;CN=Schützengesellschaft Küttigen:mailto:info@sg-kuettigen.ch
END:VEVENT
END:VCALENDAR
