BEGIN:VCALENDAR
PRODID:-//eluceo/ical//2.0/EN
VERSION:2.0
CALSCALE:GREGORIAN
BEGIN:VEVENT
UID:e738ad75178ca2e91b0836e2e01fbe9c
DTSTAMP:20260425T154441Z
SUMMARY:Bezirksverbandschiessen Aarau\, SG Hirschthal (1/2)
DESCRIPTION:https://www.sg-kuettigen.ch/kalender/bezirksverbandschiessen-aa
 rau-sg-hirschthal
DTSTART:20200904T180000
DTEND:20200904T193000
LOCATION:Schützenhaus Hirschthal\, Talstrasse 75\, 5042 Hirschthal
ORGANIZER;CN=Schützengesellschaft Küttigen:mailto:info@sg-kuettigen.ch
END:VEVENT
BEGIN:VEVENT
UID:1b8e9547a2930824ee14b9ab60ab742e
DTSTAMP:20260425T154441Z
SUMMARY:Bezirksverbandschiessen Aarau\, SG Hirschthal (2/2)
DESCRIPTION:https://www.sg-kuettigen.ch/kalender/bezirksverbandschiessen-aa
 rau-sg-hirschthal
DTSTART:20200912T090000
DTEND:20200912T113000
LOCATION:Schützenhaus Hirschthal\, Talstrasse 75\, 5042 Hirschthal
ORGANIZER;CN=Schützengesellschaft Küttigen:mailto:info@sg-kuettigen.ch
END:VEVENT
END:VCALENDAR
