BEGIN:VCALENDAR
PRODID:-//eluceo/ical//2.0/EN
VERSION:2.0
CALSCALE:GREGORIAN
BEGIN:VEVENT
UID:28345c1122885666d2db10ed795eaade
DTSTAMP:20260425T171517Z
SUMMARY:Hallwilersee-Schiessen (1/6)
DESCRIPTION:https://www.sg-kuettigen.ch/kalender/hallwilersee-schiessen
DTSTART:20220902T163000
DTEND:20220902T193000
LOCATION:Schiessplatz Disnähren\, Meisterschwanden\, Hauptstrasse\, 5616 M
 eisterschwanden
ORGANIZER;CN=Schützengesellschaft Küttigen:mailto:info@sg-kuettigen.ch
END:VEVENT
BEGIN:VEVENT
UID:b9be016eac214fb2fa6ae01a64297373
DTSTAMP:20260425T171517Z
SUMMARY:Hallwilersee-Schiessen (2/6)
DESCRIPTION:https://www.sg-kuettigen.ch/kalender/hallwilersee-schiessen
DTSTART:20220903T133000
DTEND:20220903T190000
LOCATION:Schiessplatz Disnähren\, Meisterschwanden\, Hauptstrasse\, 5616 M
 eisterschwanden
ORGANIZER;CN=Schützengesellschaft Küttigen:mailto:info@sg-kuettigen.ch
END:VEVENT
BEGIN:VEVENT
UID:e069feed771594ff96e22371364cd053
DTSTAMP:20260425T171517Z
SUMMARY:Hallwilersee-Schiessen (3/6)
DESCRIPTION:https://www.sg-kuettigen.ch/kalender/hallwilersee-schiessen
DTSTART:20220907T163000
DTEND:20220907T200000
LOCATION:Schiessplatz Disnähren\, Meisterschwanden\, Hauptstrasse\, 5616 M
 eisterschwanden
ORGANIZER;CN=Schützengesellschaft Küttigen:mailto:info@sg-kuettigen.ch
END:VEVENT
BEGIN:VEVENT
UID:9c22f1a3b633468556f8cce673cd61c6
DTSTAMP:20260425T171517Z
SUMMARY:Hallwilersee-Schiessen (4/6)
DESCRIPTION:https://www.sg-kuettigen.ch/kalender/hallwilersee-schiessen
DTSTART:20220909T163000
DTEND:20220909T193000
LOCATION:Schiessplatz Disnähren\, Meisterschwanden\, Hauptstrasse\, 5616 M
 eisterschwanden
ORGANIZER;CN=Schützengesellschaft Küttigen:mailto:info@sg-kuettigen.ch
END:VEVENT
BEGIN:VEVENT
UID:6794b601bdf195effcde6baedf4cde96
DTSTAMP:20260425T171517Z
SUMMARY:Hallwilersee-Schiessen (5/6)
DESCRIPTION:https://www.sg-kuettigen.ch/kalender/hallwilersee-schiessen
DTSTART:20220910T090000
DTEND:20220910T120000
LOCATION:Schiessplatz Disnähren\, Meisterschwanden\, Hauptstrasse\, 5616 M
 eisterschwanden
ORGANIZER;CN=Schützengesellschaft Küttigen:mailto:info@sg-kuettigen.ch
END:VEVENT
BEGIN:VEVENT
UID:2122a707724f66ef7ca65a8c273c65f1
DTSTAMP:20260425T171517Z
SUMMARY:Hallwilersee-Schiessen (6/6)
DESCRIPTION:https://www.sg-kuettigen.ch/kalender/hallwilersee-schiessen
DTSTART:20220910T133000
DTEND:20220910T190000
LOCATION:Schiessplatz Disnähren\, Meisterschwanden\, Hauptstrasse\, 5616 M
 eisterschwanden
ORGANIZER;CN=Schützengesellschaft Küttigen:mailto:info@sg-kuettigen.ch
END:VEVENT
END:VCALENDAR
