BEGIN:VCALENDAR
PRODID:-//eluceo/ical//2.0/EN
VERSION:2.0
CALSCALE:GREGORIAN
BEGIN:VEVENT
UID:84227da67c441ad6e1c204a329d61c8c
DTSTAMP:20260425T152511Z
SUMMARY:Endschiessen (1/3)
DESCRIPTION:https://www.sg-kuettigen.ch/kalender/endschiessen-0
DTSTART:20201003T090000
DTEND:20201003T120000
LOCATION:Schützenhaus Talmatt\, Küttigen\, Schützenhaus\, 5024 Küttigen
ORGANIZER;CN=Schützengesellschaft Küttigen:mailto:info@sg-kuettigen.ch
END:VEVENT
BEGIN:VEVENT
UID:9ea2878f3073bbf701c820a07b4f2bec
DTSTAMP:20260425T152511Z
SUMMARY:Endschiessen (2/3)
DESCRIPTION:https://www.sg-kuettigen.ch/kalender/endschiessen-0
DTSTART:20201003T133000
DTEND:20201003T160000
LOCATION:Schützenhaus Talmatt\, Küttigen\, Schützenhaus\, 5024 Küttigen
ORGANIZER;CN=Schützengesellschaft Küttigen:mailto:info@sg-kuettigen.ch
END:VEVENT
BEGIN:VEVENT
UID:a1ec26c61e02986e92247853fa541b66
DTSTAMP:20260425T152511Z
SUMMARY:Endschiessen (3/3)
DESCRIPTION:https://www.sg-kuettigen.ch/kalender/endschiessen-0
DTSTART:20201011T090000
DTEND:20201011T120000
LOCATION:Schützenhaus Talmatt\, Küttigen\, Schützenhaus\, 5024 Küttigen
ORGANIZER;CN=Schützengesellschaft Küttigen:mailto:info@sg-kuettigen.ch
END:VEVENT
END:VCALENDAR
