BEGIN:VCALENDAR
PRODID:-//eluceo/ical//2.0/EN
VERSION:2.0
CALSCALE:GREGORIAN
BEGIN:VEVENT
UID:0c1dabb4b344ce89d74644b76602dc17
DTSTAMP:20260425T155158Z
SUMMARY:Hock Ehrenmitglieder
DESCRIPTION:https://www.sg-kuettigen.ch/kalender/hock-ehrenmitglieder
DTSTART:20201009T190000
DTEND:20201009T220000
LOCATION:Schützenhaus Talmatt\, Küttigen\, Schützenhaus\, 5024 Küttigen
ORGANIZER;CN=Schützengesellschaft Küttigen:mailto:info@sg-kuettigen.ch
END:VEVENT
END:VCALENDAR
