BEGIN:VCALENDAR
PRODID:-//eluceo/ical//2.0/EN
VERSION:2.0
CALSCALE:GREGORIAN
BEGIN:VEVENT
UID:179f24deb08f0f0e4a5b17722a7e5785
DTSTAMP:20260425T153319Z
SUMMARY:ABGESAGT: Jahresschlussfeier und Absenden
DESCRIPTION:https://www.sg-kuettigen.ch/kalender/abgesagt-jahresschlussfeie
 r-und-absenden
DTSTART:20201114T190000
DTEND:20201114T230000
LOCATION:Restaurant Traube\, Küttigen\, Hauptstrasse 58\, 5024 Küttigen
ORGANIZER;CN=Schützengesellschaft Küttigen:mailto:info@sg-kuettigen.ch
END:VEVENT
END:VCALENDAR
