BEGIN:VCALENDAR
PRODID:-//eluceo/ical//2.0/EN
VERSION:2.0
CALSCALE:GREGORIAN
BEGIN:VEVENT
UID:29ba6ed381ca929d122cfb548e376081
DTSTAMP:20260425T154700Z
SUMMARY:Neujahrsapéro 2022
DESCRIPTION:https://www.sg-kuettigen.ch/kalender/neujahrsapero-2022
DTSTART:20220102T110000
DTEND:20220102T140000
LOCATION:Schützenhaus Talmatt\, Küttigen\, Schützenhaus\, 5024 Küttigen
ORGANIZER;CN=Schützengesellschaft Küttigen:mailto:info@sg-kuettigen.ch
END:VEVENT
END:VCALENDAR
