BEGIN:VCALENDAR
PRODID:-//eluceo/ical//2.0/EN
VERSION:2.0
CALSCALE:GREGORIAN
BEGIN:VEVENT
UID:058d27916a701f8bd44e97c62d82c401
DTSTAMP:20260425T155105Z
SUMMARY:158. Generalversammlung 2021 (POSTALISCH)
DESCRIPTION:https://www.sg-kuettigen.ch/kalender/158-generalversammlung-202
 1-postalisch
DTSTART:20210226T200000
DTEND:20210226T220000
LOCATION:Schützenhaus Talmatt\, Küttigen\, Schützenhaus\, 5024 Küttigen
ORGANIZER;CN=Schützengesellschaft Küttigen:mailto:info@sg-kuettigen.ch
END:VEVENT
END:VCALENDAR
