BEGIN:VCALENDAR
PRODID:-//eluceo/ical//2.0/EN
VERSION:2.0
CALSCALE:GREGORIAN
BEGIN:VEVENT
UID:13560e141ed705f88ae32a5d25deddd7
DTSTAMP:20260425T152641Z
SUMMARY:Training
DESCRIPTION:https://www.sg-kuettigen.ch/kalender/training-8
DTSTART:20210415T180000
DTEND:20210415T193000
LOCATION:Schützenhaus Talmatt\, Küttigen\, Schützenhaus\, 5024 Küttigen
ORGANIZER;CN=Schützengesellschaft Küttigen:mailto:info@sg-kuettigen.ch
END:VEVENT
END:VCALENDAR
