BEGIN:VCALENDAR
PRODID:-//eluceo/ical//2.0/EN
VERSION:2.0
CALSCALE:GREGORIAN
BEGIN:VEVENT
UID:8e7bd4d7787169ccd5c7828162d5fc04
DTSTAMP:20260425T154345Z
SUMMARY:Training
DESCRIPTION:https://www.sg-kuettigen.ch/kalender/training-10
DTSTART:20210429T180000
DTEND:20210429T200000
LOCATION:Schützenhaus Talmatt\, Küttigen\, Schützenhaus\, 5024 Küttigen
ORGANIZER;CN=Schützengesellschaft Küttigen:mailto:info@sg-kuettigen.ch
END:VEVENT
END:VCALENDAR
