BEGIN:VCALENDAR
PRODID:-//eluceo/ical//2.0/EN
VERSION:2.0
CALSCALE:GREGORIAN
BEGIN:VEVENT
UID:a53c59f48fa9e9c79989f5f1acda56f7
DTSTAMP:20260425T152639Z
SUMMARY:Training
DESCRIPTION:https://www.sg-kuettigen.ch/kalender/training-23
DTSTART:20210506T180000
DTEND:20210506T200000
LOCATION:Schützenhaus Talmatt\, Küttigen\, Schützenhaus\, 5024 Küttigen
ORGANIZER;CN=Schützengesellschaft Küttigen:mailto:info@sg-kuettigen.ch
END:VEVENT
END:VCALENDAR
