BEGIN:VCALENDAR
PRODID:-//eluceo/ical//2.0/EN
VERSION:2.0
CALSCALE:GREGORIAN
BEGIN:VEVENT
UID:e7b7cca7baa00a503e6d5b4e306eeb68
DTSTAMP:20260425T154339Z
SUMMARY:Training mit Jungschützen
DESCRIPTION:https://www.sg-kuettigen.ch/kalender/training-mit-jungschuetzen
 -2
DTSTART:20210520T180000
DTEND:20210520T200000
LOCATION:Schützenhaus Talmatt\, Küttigen\, Schützenhaus\, 5024 Küttigen
ORGANIZER;CN=Schützengesellschaft Küttigen:mailto:info@sg-kuettigen.ch
END:VEVENT
END:VCALENDAR
