BEGIN:VCALENDAR
PRODID:-//eluceo/ical//2.0/EN
VERSION:2.0
CALSCALE:GREGORIAN
BEGIN:VEVENT
UID:552f145d6498a20bf1fcf10d676e7e4e
DTSTAMP:20260425T154133Z
SUMMARY:Eidgenössisches Feldschiessen 2021 (1/3)
DESCRIPTION:https://www.sg-kuettigen.ch/kalender/eidgenoessisches-feldschie
 ssen-2021
DTSTART:20210828T090000
DTEND:20210828T120000
LOCATION:Schützenhaus Talmatt\, Küttigen\, Schützenhaus\, 5024 Küttigen
ORGANIZER;CN=Schützengesellschaft Küttigen:mailto:info@sg-kuettigen.ch
END:VEVENT
BEGIN:VEVENT
UID:a291ce794733a48bffc1100352d83d03
DTSTAMP:20260425T154133Z
SUMMARY:Eidgenössisches Feldschiessen 2021 (2/3)
DESCRIPTION:https://www.sg-kuettigen.ch/kalender/eidgenoessisches-feldschie
 ssen-2021
DTSTART:20210828T133000
DTEND:20210828T160000
LOCATION:Schützenhaus Talmatt\, Küttigen\, Schützenhaus\, 5024 Küttigen
ORGANIZER;CN=Schützengesellschaft Küttigen:mailto:info@sg-kuettigen.ch
END:VEVENT
BEGIN:VEVENT
UID:4a1e58b89de661db20d7752d8829599b
DTSTAMP:20260425T154133Z
SUMMARY:Eidgenössisches Feldschiessen 2021 (3/3)
DESCRIPTION:https://www.sg-kuettigen.ch/kalender/eidgenoessisches-feldschie
 ssen-2021
DTSTART:20210829T090000
DTEND:20210829T113000
LOCATION:Schützenhaus Talmatt\, Küttigen\, Schützenhaus\, 5024 Küttigen
ORGANIZER;CN=Schützengesellschaft Küttigen:mailto:info@sg-kuettigen.ch
END:VEVENT
END:VCALENDAR
