BEGIN:VCALENDAR
PRODID:-//eluceo/ical//2.0/EN
VERSION:2.0
CALSCALE:GREGORIAN
BEGIN:VEVENT
UID:c51beaf9703e422c9abecce995d5dc2a
DTSTAMP:20260425T154836Z
SUMMARY:Training mit Jungschützen
DESCRIPTION:https://www.sg-kuettigen.ch/kalender/training-mit-jungschuetzen
 -0
DTSTART:20210722T180000
DTEND:20210722T200000
LOCATION:Schützenhaus Talmatt\, Küttigen\, Schützenhaus\, 5024 Küttigen
ORGANIZER;CN=Schützengesellschaft Küttigen:mailto:info@sg-kuettigen.ch
END:VEVENT
END:VCALENDAR
