BEGIN:VCALENDAR
PRODID:-//eluceo/ical//2.0/EN
VERSION:2.0
CALSCALE:GREGORIAN
BEGIN:VEVENT
UID:b40dbc82fa1ff72611e0697ebc7839db
DTSTAMP:20260425T153039Z
SUMMARY:Training
DESCRIPTION:https://www.sg-kuettigen.ch/kalender/training-18
DTSTART:20210805T180000
DTEND:20210805T200000
LOCATION:Schützenhaus Talmatt\, Küttigen\, Schützenhaus\, 5024 Küttigen
ORGANIZER;CN=Schützengesellschaft Küttigen:mailto:info@sg-kuettigen.ch
END:VEVENT
END:VCALENDAR
