BEGIN:VCALENDAR
PRODID:-//eluceo/ical//2.0/EN
VERSION:2.0
CALSCALE:GREGORIAN
BEGIN:VEVENT
UID:43a08bcda89c695296e92001a570f6d9
DTSTAMP:20260425T152857Z
SUMMARY:Training
DESCRIPTION:https://www.sg-kuettigen.ch/kalender/training-19
DTSTART:20210819T180000
DTEND:20210819T200000
LOCATION:Schützenhaus Talmatt\, Küttigen\, Schützenhaus\, 5024 Küttigen
ORGANIZER;CN=Schützengesellschaft Küttigen:mailto:info@sg-kuettigen.ch
END:VEVENT
END:VCALENDAR
