BEGIN:VCALENDAR
PRODID:-//eluceo/ical//2.0/EN
VERSION:2.0
CALSCALE:GREGORIAN
BEGIN:VEVENT
UID:37780ea218d09005762a8479968dc8a1
DTSTAMP:20260425T153223Z
SUMMARY:Training
DESCRIPTION:https://www.sg-kuettigen.ch/kalender/training-20
DTSTART:20210828T090000
DTEND:20210828T110000
LOCATION:Schützenhaus Talmatt\, Küttigen\, Schützenhaus\, 5024 Küttigen
ORGANIZER;CN=Schützengesellschaft Küttigen:mailto:info@sg-kuettigen.ch
END:VEVENT
END:VCALENDAR
