BEGIN:VCALENDAR
PRODID:-//eluceo/ical//2.0/EN
VERSION:2.0
CALSCALE:GREGORIAN
BEGIN:VEVENT
UID:a6930109f0370d0f3819ce42a7d972c2
DTSTAMP:20260425T152730Z
SUMMARY:Bezirksverbandschiessen Aarau\, SG Küttigen (1/2)
DESCRIPTION:https://www.sg-kuettigen.ch/kalender/bezirksverbandschiessen-aa
 rau-sg-kuettigen
DTSTART:20210910T180000
DTEND:20210910T193000
LOCATION:Schützenhaus Talmatt\, Küttigen\, Schützenhaus\, 5024 Küttigen
ORGANIZER;CN=Schützengesellschaft Küttigen:mailto:info@sg-kuettigen.ch
END:VEVENT
BEGIN:VEVENT
UID:19787a7a20c4be567344e4169f3c13aa
DTSTAMP:20260425T152730Z
SUMMARY:Bezirksverbandschiessen Aarau\, SG Küttigen (2/2)
DESCRIPTION:https://www.sg-kuettigen.ch/kalender/bezirksverbandschiessen-aa
 rau-sg-kuettigen
DTSTART:20210918T090000
DTEND:20210918T120000
LOCATION:Schützenhaus Talmatt\, Küttigen\, Schützenhaus\, 5024 Küttigen
ORGANIZER;CN=Schützengesellschaft Küttigen:mailto:info@sg-kuettigen.ch
END:VEVENT
END:VCALENDAR
