BEGIN:VCALENDAR
PRODID:-//eluceo/ical//2.0/EN
VERSION:2.0
CALSCALE:GREGORIAN
BEGIN:VEVENT
UID:5ae0c1bda4d63affbfcd853ec29dfe3f
DTSTAMP:20260425T155318Z
SUMMARY:Training mit Jungschützen
DESCRIPTION:https://www.sg-kuettigen.ch/kalender/training-mit-jungschuetzen
 -1
DTSTART:20210911T090000
DTEND:20210911T110000
LOCATION:Schützenhaus Talmatt\, Küttigen\, Schützenhaus\, 5024 Küttigen
ORGANIZER;CN=Schützengesellschaft Küttigen:mailto:info@sg-kuettigen.ch
END:VEVENT
END:VCALENDAR
