BEGIN:VCALENDAR
PRODID:-//eluceo/ical//2.0/EN
VERSION:2.0
CALSCALE:GREGORIAN
BEGIN:VEVENT
UID:70dfe30d1b75b87f6b418dd34ea5ad1a
DTSTAMP:20260425T153118Z
SUMMARY:Endschiessen (1/3)
DESCRIPTION:https://www.sg-kuettigen.ch/kalender/endschiessen-1
DTSTART:20210925T090000
DTEND:20210925T120000
LOCATION:Schützenhaus Talmatt\, Küttigen\, Schützenhaus\, 5024 Küttigen
ORGANIZER;CN=Schützengesellschaft Küttigen:mailto:info@sg-kuettigen.ch
END:VEVENT
BEGIN:VEVENT
UID:b1a873441415ab67c308f2949da3a4a7
DTSTAMP:20260425T153118Z
SUMMARY:Endschiessen (2/3)
DESCRIPTION:https://www.sg-kuettigen.ch/kalender/endschiessen-1
DTSTART:20210925T133000
DTEND:20210925T160000
LOCATION:Schützenhaus Talmatt\, Küttigen\, Schützenhaus\, 5024 Küttigen
ORGANIZER;CN=Schützengesellschaft Küttigen:mailto:info@sg-kuettigen.ch
END:VEVENT
BEGIN:VEVENT
UID:ec38bf4fb5ecefb8528b7894fefd9317
DTSTAMP:20260425T153118Z
SUMMARY:Endschiessen (3/3)
DESCRIPTION:https://www.sg-kuettigen.ch/kalender/endschiessen-1
DTSTART:20211003T090000
DTEND:20211003T120000
LOCATION:Schützenhaus Talmatt\, Küttigen\, Schützenhaus\, 5024 Küttigen
ORGANIZER;CN=Schützengesellschaft Küttigen:mailto:info@sg-kuettigen.ch
END:VEVENT
END:VCALENDAR
