BEGIN:VCALENDAR
PRODID:-//eluceo/ical//2.0/EN
VERSION:2.0
CALSCALE:GREGORIAN
BEGIN:VEVENT
UID:30f95f654b69e1f4586686201aab73ef
DTSTAMP:20260425T153917Z
SUMMARY:Empfang der Dorfvereine nach ESF Luzern
DESCRIPTION:https://www.sg-kuettigen.ch/kalender/empfang-der-dorfvereine-na
 ch-esf-luzern
DTSTART:20211024T180000
DTEND:20211024T193000
LOCATION:Bäckerei "La Boulangerie Rossier"\, Küttigen\, Hauptstrasse 17\,
  5024 Küttigen
ORGANIZER;CN=Schützengesellschaft Küttigen:mailto:info@sg-kuettigen.ch
END:VEVENT
END:VCALENDAR
