BEGIN:VCALENDAR
PRODID:-//eluceo/ical//2.0/EN
VERSION:2.0
CALSCALE:GREGORIAN
BEGIN:VEVENT
UID:8b681f648f63d53223689d7f609c1826
DTSTAMP:20260425T154302Z
SUMMARY:Hock Ehrenmitglieder
DESCRIPTION:https://www.sg-kuettigen.ch/kalender/hock-ehrenmitglieder-0
DTSTART:20211015T193000
DTEND:20211015T220000
LOCATION:Schützenhaus Talmatt\, Küttigen\, Schützenhaus\, 5024 Küttigen
ORGANIZER;CN=Schützengesellschaft Küttigen:mailto:info@sg-kuettigen.ch
END:VEVENT
END:VCALENDAR
