BEGIN:VCALENDAR
PRODID:-//eluceo/ical//2.0/EN
VERSION:2.0
CALSCALE:GREGORIAN
BEGIN:VEVENT
UID:f8fa7c515a165b3583bfbf42298905a9
DTSTAMP:20260425T153343Z
SUMMARY:Absenden
DESCRIPTION:https://www.sg-kuettigen.ch/kalender/absenden-0
DTSTART:20211120T190000
DTEND:20211120T230000
LOCATION:Restaurant Traube\, Küttigen\, Hauptstrasse 58\, 5024 Küttigen
ORGANIZER;CN=Schützengesellschaft Küttigen:mailto:info@sg-kuettigen.ch
END:VEVENT
END:VCALENDAR
