BEGIN:VCALENDAR
PRODID:-//eluceo/ical//2.0/EN
VERSION:2.0
CALSCALE:GREGORIAN
BEGIN:VEVENT
UID:ec92ef9ee6cb9b261c3c179a2cc4baac
DTSTAMP:20260425T155156Z
SUMMARY:Vorschiessen für Helfer: Königsteinschiessen\, Standartenweihschi
 essen\, Urgizschiessen
DESCRIPTION:https://www.sg-kuettigen.ch/kalender/vorschiessen-fuer-helfer-k
 oenigsteinschiessen-standartenweihschiessen-urgizschiessen
DTSTART:20210721T180000
DTEND:20210721T200000
LOCATION:Schiessanlage Büelhalde\, Densbüren\, Cholhaldeweg\, 5026 Densb
 üren
ORGANIZER;CN=Schützengesellschaft Küttigen:mailto:info@sg-kuettigen.ch
END:VEVENT
END:VCALENDAR
