BEGIN:VCALENDAR
PRODID:-//eluceo/ical//2.0/EN
VERSION:2.0
CALSCALE:GREGORIAN
BEGIN:VEVENT
UID:301edf36dca1146967180cfd22fbd0d8
DTSTAMP:20260425T155317Z
SUMMARY:Schützenhausputzete
DESCRIPTION:https://www.sg-kuettigen.ch/kalender/schuetzenhausputzete-1
DTSTART:20220312T090000
DTEND:20220312T110000
LOCATION:Schützenhaus Talmatt\, Küttigen\, Schützenhaus\, 5024 Küttigen
ORGANIZER;CN=Schützengesellschaft Küttigen:mailto:info@sg-kuettigen.ch
END:VEVENT
END:VCALENDAR
