BEGIN:VCALENDAR
PRODID:-//eluceo/ical//2.0/EN
VERSION:2.0
CALSCALE:GREGORIAN
BEGIN:VEVENT
UID:882ba382d263ac1eac231c1e1fad6db6
DTSTAMP:20260425T153221Z
SUMMARY:Winterausmarsch
DESCRIPTION:https://www.sg-kuettigen.ch/kalender/winterausmarsch-0
DTSTART:20220312T140000
DTEND:20220312T180000
LOCATION:Schulhaus Dorf\, Küttigen\, Schulhausweg 1\, 5024 Küttigen
ORGANIZER;CN=Schützengesellschaft Küttigen:mailto:info@sg-kuettigen.ch
END:VEVENT
END:VCALENDAR
