BEGIN:VCALENDAR
PRODID:-//eluceo/ical//2.0/EN
VERSION:2.0
CALSCALE:GREGORIAN
BEGIN:VEVENT
UID:027a422dc4c42a689539901a326ffee9
DTSTAMP:20260425T153410Z
SUMMARY:Training
DESCRIPTION:https://www.sg-kuettigen.ch/kalender/training-25
DTSTART:20220326T090000
DTEND:20220326T110000
LOCATION:Schützenhaus Talmatt\, Küttigen\, Schützenhaus\, 5024 Küttigen
ORGANIZER;CN=Schützengesellschaft Küttigen:mailto:info@sg-kuettigen.ch
END:VEVENT
END:VCALENDAR
