BEGIN:VCALENDAR
PRODID:-//eluceo/ical//2.0/EN
VERSION:2.0
CALSCALE:GREGORIAN
BEGIN:VEVENT
UID:190568c14b7367c3d6a07b40e03703bd
DTSTAMP:20260425T152854Z
SUMMARY:Training
DESCRIPTION:https://www.sg-kuettigen.ch/kalender/training-26
DTSTART:20220331T180000
DTEND:20220331T193000
LOCATION:Schützenhaus Talmatt\, Küttigen\, Schützenhaus\, 5024 Küttigen
ORGANIZER;CN=Schützengesellschaft Küttigen:mailto:info@sg-kuettigen.ch
END:VEVENT
END:VCALENDAR
