BEGIN:VCALENDAR
PRODID:-//eluceo/ical//2.0/EN
VERSION:2.0
CALSCALE:GREGORIAN
BEGIN:VEVENT
UID:1c78412cfeed8a3bb44b8c841b5538df
DTSTAMP:20260425T152836Z
SUMMARY:Training
DESCRIPTION:https://www.sg-kuettigen.ch/kalender/training-27
DTSTART:20220409T090000
DTEND:20220409T110000
LOCATION:Schützenhaus Talmatt\, Küttigen\, Schützenhaus\, 5024 Küttigen
ORGANIZER;CN=Schützengesellschaft Küttigen:mailto:info@sg-kuettigen.ch
END:VEVENT
END:VCALENDAR
