BEGIN:VCALENDAR
PRODID:-//eluceo/ical//2.0/EN
VERSION:2.0
CALSCALE:GREGORIAN
BEGIN:VEVENT
UID:d55e860e506cfea74635d1363e4ab3c6
DTSTAMP:20260425T155206Z
SUMMARY:Frühlingscup
DESCRIPTION:https://www.sg-kuettigen.ch/kalender/fruehlingscup
DTSTART:20220409T140000
DTEND:20220409T153000
LOCATION:Schützenhaus Talmatt\, Küttigen\, Schützenhaus\, 5024 Küttigen
ORGANIZER;CN=Schützengesellschaft Küttigen:mailto:info@sg-kuettigen.ch
END:VEVENT
END:VCALENDAR
