BEGIN:VCALENDAR
PRODID:-//eluceo/ical//2.0/EN
VERSION:2.0
CALSCALE:GREGORIAN
BEGIN:VEVENT
UID:6183fe0b41b523154950301f6499de64
DTSTAMP:20260425T153036Z
SUMMARY:Training
DESCRIPTION:https://www.sg-kuettigen.ch/kalender/training-28
DTSTART:20220414T180000
DTEND:20220414T193000
LOCATION:Schützenhaus Talmatt\, Küttigen\, Schützenhaus\, 5024 Küttigen
ORGANIZER;CN=Schützengesellschaft Küttigen:mailto:info@sg-kuettigen.ch
END:VEVENT
END:VCALENDAR
