BEGIN:VCALENDAR
PRODID:-//eluceo/ical//2.0/EN
VERSION:2.0
CALSCALE:GREGORIAN
BEGIN:VEVENT
UID:839b3dc4c94f39bed497723da231d672
DTSTAMP:20260425T154732Z
SUMMARY:Cupschiessen (freiwillig)
DESCRIPTION:https://www.sg-kuettigen.ch/kalender/cupschiessen-freiwillig
DTSTART:20220410T090000
DTEND:20220410T100000
LOCATION:Schiessanlage Büelhalde\, Densbüren\, Cholhaldeweg\, 5026 Densb
 üren
ORGANIZER;CN=Schützengesellschaft Küttigen:mailto:info@sg-kuettigen.ch
END:VEVENT
END:VCALENDAR
