BEGIN:VCALENDAR
PRODID:-//eluceo/ical//2.0/EN
VERSION:2.0
CALSCALE:GREGORIAN
BEGIN:VEVENT
UID:c189fc54403b765c880c7ff0ce764017
DTSTAMP:20260425T155043Z
SUMMARY:Eröffnungsschiessen Kirchbergmeisterschaft 2022
DESCRIPTION:https://www.sg-kuettigen.ch/kalender/eroeffnungsschiessen-kirch
 bergmeisterschaft-2022
DTSTART:20220423T090000
DTEND:20220423T110000
LOCATION:Regionale Schiessanlage Buchs\, Im Lostorf\, 5033 Buchs
ORGANIZER;CN=Schützengesellschaft Küttigen:mailto:info@sg-kuettigen.ch
END:VEVENT
END:VCALENDAR
