BEGIN:VCALENDAR
PRODID:-//eluceo/ical//2.0/EN
VERSION:2.0
CALSCALE:GREGORIAN
BEGIN:VEVENT
UID:6d92985e46730bcf91c26f40fcbdb161
DTSTAMP:20260425T154133Z
SUMMARY:1. Obligatorischer Schiesstag
DESCRIPTION:https://www.sg-kuettigen.ch/kalender/1-obligatorischer-schiesst
 ag
DTSTART:20220507T093000
DTEND:20220507T110000
LOCATION:Schützenhaus Talmatt\, Küttigen\, Schützenhaus\, 5024 Küttigen
ORGANIZER;CN=Schützengesellschaft Küttigen:mailto:info@sg-kuettigen.ch
END:VEVENT
END:VCALENDAR
