BEGIN:VCALENDAR
PRODID:-//eluceo/ical//2.0/EN
VERSION:2.0
CALSCALE:GREGORIAN
BEGIN:VEVENT
UID:e9809366ad689503538e2a0ed680333c
DTSTAMP:20260425T152732Z
SUMMARY:Kirchbergschiessen (1/2)
DESCRIPTION:https://www.sg-kuettigen.ch/kalender/kirchbergschiessen
DTSTART:20220507T133000
DTEND:20220507T153000
LOCATION:Schützenhaus Talmatt\, Küttigen\, Schützenhaus\, 5024 Küttigen
ORGANIZER;CN=Schützengesellschaft Küttigen:mailto:info@sg-kuettigen.ch
END:VEVENT
BEGIN:VEVENT
UID:9e6c46ac23f20f2dff2652753df51a35
DTSTAMP:20260425T152732Z
SUMMARY:Kirchbergschiessen (2/2)
DESCRIPTION:https://www.sg-kuettigen.ch/kalender/kirchbergschiessen
DTSTART:20220508T093000
DTEND:20220508T113000
LOCATION:Schützenhaus Talmatt\, Küttigen\, Schützenhaus\, 5024 Küttigen
ORGANIZER;CN=Schützengesellschaft Küttigen:mailto:info@sg-kuettigen.ch
END:VEVENT
END:VCALENDAR
