BEGIN:VCALENDAR
PRODID:-//eluceo/ical//2.0/EN
VERSION:2.0
CALSCALE:GREGORIAN
BEGIN:VEVENT
UID:2ae4f683b8d6cbee445110e5a24fe6c3
DTSTAMP:20260425T155235Z
SUMMARY:FS Training mit Jungschützen
DESCRIPTION:https://www.sg-kuettigen.ch/kalender/fs-training-mit-jungschuet
 zen-0
DTSTART:20220525T180000
DTEND:20220525T200000
LOCATION:Schützenhaus Talmatt\, Küttigen\, Schützenhaus\, 5024 Küttigen
ORGANIZER;CN=Schützengesellschaft Küttigen:mailto:info@sg-kuettigen.ch
END:VEVENT
END:VCALENDAR
