BEGIN:VCALENDAR
PRODID:-//eluceo/ical//2.0/EN
VERSION:2.0
CALSCALE:GREGORIAN
BEGIN:VEVENT
UID:438c3b0d87db4bfa5c0eed190e2a5a1f
DTSTAMP:20260425T154823Z
SUMMARY:Vorschiessen Feldschiessen
DESCRIPTION:https://www.sg-kuettigen.ch/kalender/vorschiessen-feldschiessen
 -0
DTSTART:20220609T180000
DTEND:20220609T200000
LOCATION:Schützenhaus Talmatt\, Küttigen\, Schützenhaus\, 5024 Küttigen
ORGANIZER;CN=Schützengesellschaft Küttigen:mailto:info@sg-kuettigen.ch
END:VEVENT
END:VCALENDAR
