BEGIN:VCALENDAR
PRODID:-//eluceo/ical//2.0/EN
VERSION:2.0
CALSCALE:GREGORIAN
BEGIN:VEVENT
UID:870f10f355c7d073cbcb658c93a070bf
DTSTAMP:20260425T155044Z
SUMMARY:Eidgenössisches Feldschiessen (1/3)
DESCRIPTION:https://www.sg-kuettigen.ch/kalender/eidgenoessisches-feldschie
 ssen
DTSTART:20220611T090000
DTEND:20220611T120000
LOCATION:Schützenhaus Talmatt\, Küttigen\, Schützenhaus\, 5024 Küttigen
ORGANIZER;CN=Schützengesellschaft Küttigen:mailto:info@sg-kuettigen.ch
END:VEVENT
BEGIN:VEVENT
UID:d93d668039f199fcb6d90e04a5634186
DTSTAMP:20260425T155044Z
SUMMARY:Eidgenössisches Feldschiessen (2/3)
DESCRIPTION:https://www.sg-kuettigen.ch/kalender/eidgenoessisches-feldschie
 ssen
DTSTART:20220611T133000
DTEND:20220611T160000
LOCATION:Schützenhaus Talmatt\, Küttigen\, Schützenhaus\, 5024 Küttigen
ORGANIZER;CN=Schützengesellschaft Küttigen:mailto:info@sg-kuettigen.ch
END:VEVENT
BEGIN:VEVENT
UID:ef634cea38aa78a7111b314987ea4ffe
DTSTAMP:20260425T155044Z
SUMMARY:Eidgenössisches Feldschiessen (3/3)
DESCRIPTION:https://www.sg-kuettigen.ch/kalender/eidgenoessisches-feldschie
 ssen
DTSTART:20220612T090000
DTEND:20220612T113000
LOCATION:Schützenhaus Talmatt\, Küttigen\, Schützenhaus\, 5024 Küttigen
ORGANIZER;CN=Schützengesellschaft Küttigen:mailto:info@sg-kuettigen.ch
END:VEVENT
END:VCALENDAR
