BEGIN:VCALENDAR
PRODID:-//eluceo/ical//2.0/EN
VERSION:2.0
CALSCALE:GREGORIAN
BEGIN:VEVENT
UID:457a5d9d9f20832ea4d413c69eea0ef3
DTSTAMP:20260425T153913Z
SUMMARY:25. Urner Kantonalschützenfest
DESCRIPTION:https://www.sg-kuettigen.ch/kalender/25-urner-kantonalschuetzen
 fest
DTSTART:20220709T080000
DTEND:20220709T170000
LOCATION:Schützenhaus Sisikon\, untere Bitzimatt\, 6452 Sisikon
ORGANIZER;CN=Schützengesellschaft Küttigen:mailto:info@sg-kuettigen.ch
END:VEVENT
END:VCALENDAR
