BEGIN:VCALENDAR
PRODID:-//eluceo/ical//2.0/EN
VERSION:2.0
CALSCALE:GREGORIAN
BEGIN:VEVENT
UID:d79aeba1e15e210e65fe31338e10a5b9
DTSTAMP:20260425T171952Z
SUMMARY:Jubiläumsschiessen AS Aarau (1/5)
DESCRIPTION:https://www.sg-kuettigen.ch/kalender/jubilaeumsschiessen-aarau
DTSTART:20220723T080000
DTEND:20220723T120000
LOCATION:Schützenhaus Talmatt\, Küttigen\, Schützenhaus\, 5024 Küttigen
ORGANIZER;CN=Schützengesellschaft Küttigen:mailto:info@sg-kuettigen.ch
END:VEVENT
BEGIN:VEVENT
UID:9040eb869d9d2096315efd4e01025c8d
DTSTAMP:20260425T171952Z
SUMMARY:Jubiläumsschiessen AS Aarau (2/5)
DESCRIPTION:https://www.sg-kuettigen.ch/kalender/jubilaeumsschiessen-aarau
DTSTART:20220723T133000
DTEND:20220723T153000
LOCATION:Schützenhaus Talmatt\, Küttigen\, Schützenhaus\, 5024 Küttigen
ORGANIZER;CN=Schützengesellschaft Küttigen:mailto:info@sg-kuettigen.ch
END:VEVENT
BEGIN:VEVENT
UID:4cd7ce8cfa448acc1978afd4332b8b71
DTSTAMP:20260425T171952Z
SUMMARY:Jubiläumsschiessen AS Aarau (3/5)
DESCRIPTION:https://www.sg-kuettigen.ch/kalender/jubilaeumsschiessen-aarau
DTSTART:20220730T080000
DTEND:20220730T120000
LOCATION:Schützenhaus Talmatt\, Küttigen\, Schützenhaus\, 5024 Küttigen
ORGANIZER;CN=Schützengesellschaft Küttigen:mailto:info@sg-kuettigen.ch
END:VEVENT
BEGIN:VEVENT
UID:eee6720be4df885defb5fcd78c1cfa0f
DTSTAMP:20260425T171952Z
SUMMARY:Jubiläumsschiessen AS Aarau (4/5)
DESCRIPTION:https://www.sg-kuettigen.ch/kalender/jubilaeumsschiessen-aarau
DTSTART:20220730T133000
DTEND:20220730T153000
LOCATION:Schützenhaus Talmatt\, Küttigen\, Schützenhaus\, 5024 Küttigen
ORGANIZER;CN=Schützengesellschaft Küttigen:mailto:info@sg-kuettigen.ch
END:VEVENT
BEGIN:VEVENT
UID:f2ae0f198a5fc89a5b7830a1804f337b
DTSTAMP:20260425T171952Z
SUMMARY:Jubiläumsschiessen AS Aarau (5/5)
DESCRIPTION:https://www.sg-kuettigen.ch/kalender/jubilaeumsschiessen-aarau
DTSTART:20220731T080000
DTEND:20220731T120000
LOCATION:Schützenhaus Talmatt\, Küttigen\, Schützenhaus\, 5024 Küttigen
ORGANIZER;CN=Schützengesellschaft Küttigen:mailto:info@sg-kuettigen.ch
END:VEVENT
END:VCALENDAR
