BEGIN:VCALENDAR
PRODID:-//eluceo/ical//2.0/EN
VERSION:2.0
CALSCALE:GREGORIAN
BEGIN:VEVENT
UID:ba4f1ccc7fba51fa912db9b20abc640e
DTSTAMP:20260425T155107Z
SUMMARY:Vereinsobligatorisch mit Bräteln
DESCRIPTION:https://www.sg-kuettigen.ch/kalender/vereinsobligatorisch-mit-b
 raeteln-2
DTSTART:20220813T093000
DTEND:20220813T110000
LOCATION:Schützenhaus Talmatt\, Küttigen\, Schützenhaus\, 5024 Küttigen
ORGANIZER;CN=Schützengesellschaft Küttigen:mailto:info@sg-kuettigen.ch
END:VEVENT
END:VCALENDAR
