BEGIN:VCALENDAR
PRODID:-//eluceo/ical//2.0/EN
VERSION:2.0
CALSCALE:GREGORIAN
BEGIN:VEVENT
UID:a16a994fdba6cc39b4b0e18e7bcf2be6
DTSTAMP:20260425T152731Z
SUMMARY:Training
DESCRIPTION:https://www.sg-kuettigen.ch/kalender/training-34
DTSTART:20220818T180000
DTEND:20220818T200000
LOCATION:Schützenhaus Talmatt\, Küttigen\, Schützenhaus\, 5024 Küttigen
ORGANIZER;CN=Schützengesellschaft Küttigen:mailto:info@sg-kuettigen.ch
END:VEVENT
END:VCALENDAR
