BEGIN:VCALENDAR
PRODID:-//eluceo/ical//2.0/EN
VERSION:2.0
CALSCALE:GREGORIAN
BEGIN:VEVENT
UID:942593e96245cb79a562fe566806e941
DTSTAMP:20260425T154659Z
SUMMARY:Vorschiessen Kirchbergmeisterschaft\, AS Aarau
DESCRIPTION:https://www.sg-kuettigen.ch/kalender/vorschiessen-kirchbergmeis
 terschaft-aarau
DTSTART:20220818T180000
DTEND:20220818T193000
LOCATION:Regionale Schiessanlage Buchs\, Im Lostorf\, 5033 Buchs
ORGANIZER;CN=Schützengesellschaft Küttigen:mailto:info@sg-kuettigen.ch
END:VEVENT
END:VCALENDAR
