BEGIN:VCALENDAR
PRODID:-//eluceo/ical//2.0/EN
VERSION:2.0
CALSCALE:GREGORIAN
BEGIN:VEVENT
UID:6d1d89b65397d6aed3d5721111b43b00
DTSTAMP:20260425T152833Z
SUMMARY:Schlussschiessen Kirchbergmeisterschaft\, AS Aarau
DESCRIPTION:https://www.sg-kuettigen.ch/kalender/schlussschiessen-kirchberg
 meisterschaft-aarau
DTSTART:20220820T090000
DTEND:20220820T110000
LOCATION:Regionale Schiessanlage Buchs\, Im Lostorf\, 5033 Buchs
ORGANIZER;CN=Schützengesellschaft Küttigen:mailto:info@sg-kuettigen.ch
END:VEVENT
END:VCALENDAR
